BEGIN:VCALENDAR
VERSION:2.0
PRODID:-//Plone.org//NONSGML plone.app.event//EN
X-WR-TIMEZONE:Europe/Madrid
BEGIN:VEVENT
SUMMARY:Seminar - Dr. Jesus Alcober
DTSTART;TZID=Europe/Madrid:20080305T093000
DTEND;TZID=Europe/Madrid:20080305T113000
DTSTAMP:20260424T111426Z
UID:1841fb90f55603bb32f5f2b1801568da@peter3.upc.edu:11901
CREATED:20080425T104800Z
DESCRIPTION:Professor Jesus Alcober will present his current research acti
 vities.
LAST-MODIFIED:20150602T120609Z
LOCATION:EPSC\, Castelldefels
URL:https://bampla.upc.edu/en/esdeveniments/Seminar%20-%20Prof.%20Jesus%20
 Alcober
END:VEVENT
BEGIN:VEVENT
SUMMARY:Seminar - Dr. Cristina Cervelló
DTSTART;TZID=Europe/Madrid:20080521T093000
DTEND;TZID=Europe/Madrid:20080521T113000
DTSTAMP:20260424T111426Z
UID:c39a035f4176f7a14e354365fdd85ad1@peter3.upc.edu:11901
CREATED:20080505T104100Z
DESCRIPTION:Professor Cristina Cervelló will present her current research
  activities.
LAST-MODIFIED:20150602T120608Z
LOCATION:EPSC\, Castelldefels
URL:https://bampla.upc.edu/en/esdeveniments/Seminar%20-%20Prof.%20Cristina
 %20Cervello
END:VEVENT
BEGIN:VEVENT
SUMMARY:Seminar -  Dr. Jordi Mataix Yufera
DTSTART;TZID=Europe/Madrid:20080901T093000
DTEND;TZID=Europe/Madrid:20080901T113000
DTSTAMP:20260424T111426Z
UID:e32e75c41a5c082f39645321ebdbde27@peter3.upc.edu:11901
CREATED:20080505T103900Z
DESCRIPTION:Professor Jordi Mataix Yufera will present his current researc
 h activities.
LAST-MODIFIED:20150602T120610Z
LOCATION:EPSC\, Castelldefels
URL:https://bampla.upc.edu/en/esdeveniments/Seminar%20-%20Prof.%20Jordi%20
 Mataix%20Yufera
END:VEVENT
BEGIN:VEVENT
SUMMARY:Seminar - Dr. Javier Ozón
DTSTART;TZID=Europe/Madrid:20080902T093000
DTEND;TZID=Europe/Madrid:20080902T113000
DTSTAMP:20260424T111426Z
UID:578afb2aefce4fa9169d68a54371342e@peter3.upc.edu:11901
CREATED:20080505T103900Z
DESCRIPTION:Professor Javier Ozón will present his current research activ
 ities.
LAST-MODIFIED:20150602T120609Z
LOCATION:EPSC\, Castelldefels
URL:https://bampla.upc.edu/en/esdeveniments/Seminar%20-%20Prof.%20Javier%2
 0Ozon
END:VEVENT
BEGIN:VEVENT
SUMMARY:Seminar - Dr. David Rincon
DTSTART;TZID=Europe/Madrid:20080109T093000
DTEND;TZID=Europe/Madrid:20080109T113000
DTSTAMP:20260424T111426Z
UID:e35009b6f9577f22494a1d09fa44cd34@peter3.upc.edu:11901
CREATED:20100223T121200Z
DESCRIPTION:Multi-resolution analysis of Computer Networks
LAST-MODIFIED:20150602T120616Z
LOCATION:EPSC\, Castelldefels
URL:https://bampla.upc.edu/en/esdeveniments/seminar-prof-david-rincon
END:VEVENT
BEGIN:VEVENT
SUMMARY:Seminar -  Dr. David Remondo
DTSTART;TZID=Europe/Madrid:20080902T093000
DTEND;TZID=Europe/Madrid:20080902T113000
DTSTAMP:20260424T111426Z
UID:1d29290ebd1992a8bc4f974f21ff8a2c@peter3.upc.edu:11901
CREATED:20080505T103800Z
DESCRIPTION:Professor David Remondo will present his current research acti
 vities.
LAST-MODIFIED:20150602T120609Z
LOCATION:EPSC\, Castelldefels
URL:https://bampla.upc.edu/en/esdeveniments/Seminar%20-%20Prof.%20David%20
 Remondo
END:VEVENT
BEGIN:VEVENT
SUMMARY:Seminar -  Ramón Piney
DTSTART;TZID=Europe/Madrid:20080730T093000
DTEND;TZID=Europe/Madrid:20080730T113000
DTSTAMP:20260424T111426Z
UID:d6dfd3b8dd180de90c250e431c5307d4@peter3.upc.edu:11901
CREATED:20080505T103600Z
DESCRIPTION:Professor Ramón Piney will present his current research activ
 ities.
LAST-MODIFIED:20150602T120611Z
LOCATION:EPSC\, Castelldefels
URL:https://bampla.upc.edu/en/esdeveniments/Seminar%20-%20Prof.%20Ramon%20
 Piney
END:VEVENT
BEGIN:VEVENT
SUMMARY:Seminar - Dr. Toni Barba
DTSTART;TZID=Europe/Madrid:20080618T093000
DTEND;TZID=Europe/Madrid:20080618T113000
DTSTAMP:20260424T111426Z
UID:d30c799e8fe96758e18e84c9566ab512@peter3.upc.edu:11901
CREATED:20080505T104000Z
DESCRIPTION:Professor Toni Barba will present his current research activit
 ies.
LAST-MODIFIED:20150602T120612Z
LOCATION:EPSC\, Castelldefels
URL:https://bampla.upc.edu/en/esdeveniments/Seminar%20-%20Prof.%20Toni%20B
 arba
END:VEVENT
BEGIN:VEVENT
SUMMARY:Seminar -Olga Leon
DTSTART;TZID=Europe/Madrid:20080123T093000
DTEND;TZID=Europe/Madrid:20080123T113000
DTSTAMP:20260424T111426Z
UID:628063ae88751d4bf3876f85056ff199@peter3.upc.edu:11901
CREATED:20080425T104700Z
DESCRIPTION:Professor Olga Leon will present her current research activiti
 es\, which are Vegas TCP model over OBS networks.
LAST-MODIFIED:20150602T120610Z
LOCATION:Room 028B\, EPSC\, Castelldefels
URL:https://bampla.upc.edu/en/esdeveniments/Seminar%20-%20Prof.%20Olga%20L
 eon
END:VEVENT
BEGIN:VEVENT
SUMMARY:Seminar -  Sergio Machado
DTSTART;TZID=Europe/Madrid:20080716T093000
DTEND;TZID=Europe/Madrid:20080716T113000
DTSTAMP:20260424T111426Z
UID:c573bfda7f93847f3aea80404841ac2d@peter3.upc.edu:11901
CREATED:20080505T103500Z
DESCRIPTION:Professor Sergio Machado will present his current research act
 ivities.
LAST-MODIFIED:20150602T120612Z
LOCATION:EPSC\, Castelldefels
URL:https://bampla.upc.edu/en/esdeveniments/Seminar%20-%20Prof.%20Sergio%2
 0Machado
END:VEVENT
BEGIN:VEVENT
SUMMARY:Seminar - Prof. Sebastià Sallent
DTSTART;TZID=Europe/Madrid:20080220T000000
DTEND;TZID=Europe/Madrid:20080220T000000
DTSTAMP:20260424T111426Z
UID:d856303da6989a855444849c898484e5@peter3.upc.edu:11901
CREATED:20080505T104500Z
DESCRIPTION:Professor Sebastià Sallent will present his current research 
 activities.
LAST-MODIFIED:20150602T120611Z
LOCATION:EPSC\, Castelldefels
URL:https://bampla.upc.edu/en/esdeveniments/Seminar%20-%20Prof.%20Sebastia
 %20Sallent
END:VEVENT
BEGIN:VEVENT
SUMMARY:Seminar -  Anna Agustí
DTSTART;TZID=Europe/Madrid:20080902T093000
DTEND;TZID=Europe/Madrid:20080902T113000
DTSTAMP:20260424T111426Z
UID:5aa28bf6779c857a8c6daef3976d96d1@peter3.upc.edu:11901
CREATED:20080505T103700Z
DESCRIPTION:Professor Anna Agustí will present her current research activ
 ities.
LAST-MODIFIED:20150602T120608Z
LOCATION:EPSC\, Castelldefels
URL:https://bampla.upc.edu/en/esdeveniments/Seminar%20-%20Prof.%20Anna%20A
 gusti
END:VEVENT
BEGIN:VEVENT
SUMMARY:Seminar -  Xavier Miguelez
DTSTART;TZID=Europe/Madrid:20080702T093000
DTEND;TZID=Europe/Madrid:20080702T113000
DTSTAMP:20260424T111426Z
UID:82c61c9c62241216fc1159ce43623ab9@peter3.upc.edu:11901
CREATED:20080505T103300Z
DESCRIPTION:Professor Xavier Miguelez will present his current research ac
 tivities.
LAST-MODIFIED:20150602T120613Z
LOCATION:EPSC\, Castelldefels
URL:https://bampla.upc.edu/en/esdeveniments/Seminar%20-%20Prof.%20Xavier%2
 0Miguelez
END:VEVENT
BEGIN:VEVENT
SUMMARY:Seminar - Dr. Lluis Gutierrez
DTSTART;TZID=Europe/Madrid:20080423T093000
DTEND;TZID=Europe/Madrid:20080423T113000
DTSTAMP:20260424T111426Z
UID:69f9669201ea35cb61667c6bd604e98e@peter3.upc.edu:11901
CREATED:20080421T143900Z
DESCRIPTION:Dr. Lluis Gutierrez will present his current research activiti
 es. The seminar will cover topics related with Access Networks\, particula
 ry the so-called WDM-PON and its current state-of-the art. First we will r
 eview the legacy xPON\, i.e.: BPON / GPON and GE-PON and then we will intr
 oduce the nest generation networks based on WDM: concepts\, algorithm\, et
 c. Some of the more interesting "papers" of such topics will be commented 
 along the session.
LAST-MODIFIED:20150602T120616Z
LOCATION:EPSC\, Castelldefels
URL:https://bampla.upc.edu/en/esdeveniments/seminar-prof-lluis_gutierrez
END:VEVENT
BEGIN:VEVENT
SUMMARY:Seminar -  Marilet De Andrade
DTSTART;TZID=Europe/Madrid:20071107T093000
DTEND;TZID=Europe/Madrid:20071107T113000
DTSTAMP:20260424T111426Z
UID:92c7c1390bef8006df42905d030b46d3@peter3.upc.edu:11901
CREATED:20080425T105200Z
DESCRIPTION:DDSPON: Dynamic Distribution Scheduling for Ethernet-based PON
LAST-MODIFIED:20150602T120617Z
LOCATION:EPSC\, Castelldefels
URL:https://bampla.upc.edu/en/esdeveniments/seminar-prof-marilet-de-andrad
 e
END:VEVENT
BEGIN:VEVENT
SUMMARY:Seminar -  Dr. Xavier Hesselbach
DTSTART;TZID=Europe/Madrid:20080604T093000
DTEND;TZID=Europe/Madrid:20080604T113000
DTSTAMP:20260424T111426Z
UID:262654e7f8a18c091a81f406a215ae69@peter3.upc.edu:11901
CREATED:20080505T104300Z
DESCRIPTION:Professor Xavier Hesselbach will present his current research 
 activities.
LAST-MODIFIED:20150602T120613Z
LOCATION:EPSC\, Castelldefels
URL:https://bampla.upc.edu/en/esdeveniments/Seminar%20-%20Prof.%20Xavier%2
 0Hesselbach
END:VEVENT
BEGIN:VEVENT
SUMMARY:Seminar - Antoni Oller
DTSTART;TZID=Europe/Madrid:20080206T000000
DTEND;TZID=Europe/Madrid:20080206T000000
DTSTAMP:20260424T111426Z
UID:117bc1a99404cf09ea1384d7632d7723@peter3.upc.edu:11901
CREATED:20080505T104500Z
DESCRIPTION:Professor Antoni Oller will present his current research activ
 ities.
LAST-MODIFIED:20150602T120615Z
LOCATION:EPSC\, Castelldefels
URL:https://bampla.upc.edu/en/esdeveniments/seminar-Prof.%20Antoni%20Oller
END:VEVENT
BEGIN:VEVENT
SUMMARY:Seminar - Frederic Raspall
DTSTART;TZID=Europe/Madrid:20071128T093000
DTEND;TZID=Europe/Madrid:20071128T113000
DTSTAMP:20260424T111426Z
UID:05507fe6336d1b843d81d5a1cb46731c@peter3.upc.edu:11901
CREATED:20080425T104600Z
DESCRIPTION:Professor Frederic Raspall will introduce its latest research 
 issues about traffic engineering.
LAST-MODIFIED:20150602T120616Z
LOCATION:Soterrani i2CAT- EPSC
URL:https://bampla.upc.edu/en/esdeveniments/seminar-prof-frederic-raspall
END:VEVENT
BEGIN:VEVENT
SUMMARY:[Meeting] Beyond GMPLS: Activitats quadrimestre primavera
DTSTART;TZID=Europe/Madrid:20090121T173000
DTEND;TZID=Europe/Madrid:20090121T193000
DTSTAMP:20260424T111426Z
UID:3dde92494eb6b79e20fcd23f8dc0bbeb@peter3.upc.edu:11901
CREATED:20100223T121200Z
DESCRIPTION:Activitats inter-universitaries amb paisos llatioamericans per
  a promoure la recerca.\n
LAST-MODIFIED:20150602T120614Z
LOCATION:Via Skype. Contactar amb usuari Skype xavierh9 per a ser convidat
  a la reunio\, uns minuts abans de l'inici.
URL:https://bampla.upc.edu/en/esdeveniments/beyond-gmpls-activitats-quadri
 mestre-primavera
END:VEVENT
BEGIN:VEVENT
SUMMARY:EUNICE 2009 - The Internet of the Future
DTSTART;TZID=Europe/Madrid:20090907T000000
DTEND;TZID=Europe/Madrid:20090909T000000
DTSTAMP:20260424T111426Z
UID:464402d0ee1cc22a3b668a6db2b629c5@peter3.upc.edu:11901
CREATED:20100223T121200Z
DESCRIPTION:Ten years ago\, the 5th edition of the Eunice workshop took pl
 ace in Barcelona with the motto "Broadband for all". This year\, with the 
 broadband promise already fulfilled in the city\, the international worksh
 op comes back to Barcelona in its 15th edition focused on "The Internet of
  the future".
LAST-MODIFIED:20150602T120614Z
LOCATION:Universitat Pompeu Fabra
URL:https://bampla.upc.edu/en/esdeveniments/eunice-2009-the-internet-of-th
 e-future
END:VEVENT
BEGIN:VEVENT
SUMMARY:HDVIPER final event
DTSTART;TZID=Europe/Madrid:20091014T150000
DTEND;TZID=Europe/Madrid:20091014T190000
DTSTAMP:20260424T111426Z
UID:fd3db29bb9e6ca07c6987f0f3c4cc535@peter3.upc.edu:11901
CREATED:20100223T121200Z
LAST-MODIFIED:20150602T120615Z
LOCATION:Citilab\, Cornella
URL:https://bampla.upc.edu/en/esdeveniments/hdviper-final-event
END:VEVENT
BEGIN:VTIMEZONE
TZID:Europe/Madrid
X-LIC-LOCATION:Europe/Madrid
BEGIN:STANDARD
DTSTART:20071028T020000
TZNAME:CET
TZOFFSETFROM:+0200
TZOFFSETTO:+0100
END:STANDARD
BEGIN:DAYLIGHT
DTSTART:20080330T030000
TZNAME:CEST
TZOFFSETFROM:+0100
TZOFFSETTO:+0200
END:DAYLIGHT
BEGIN:STANDARD
DTSTART:20081026T020000
TZNAME:CET
TZOFFSETFROM:+0200
TZOFFSETTO:+0100
END:STANDARD
BEGIN:DAYLIGHT
DTSTART:20090329T030000
TZNAME:CEST
TZOFFSETFROM:+0100
TZOFFSETTO:+0200
END:DAYLIGHT
END:VTIMEZONE
END:VCALENDAR
