BEGIN:VCALENDAR
VERSION:2.0
PRODID:-//Plone.org//NONSGML plone.app.event//EN
X-WR-TIMEZONE:Europe/Madrid
BEGIN:VEVENT
SUMMARY:Seminar - Dr. Lluis Gutierrez
DTSTART;TZID=Europe/Madrid:20080423T093000
DTEND;TZID=Europe/Madrid:20080423T113000
DTSTAMP:20260420T083322Z
UID:69f9669201ea35cb61667c6bd604e98e@peter3.upc.edu:11901
CREATED:20080421T143900Z
DESCRIPTION:Dr. Lluis Gutierrez will present his current research activiti
 es. The seminar will cover topics related with Access Networks\, particula
 ry the so-called WDM-PON and its current state-of-the art. First we will r
 eview the legacy xPON\, i.e.: BPON / GPON and GE-PON and then we will intr
 oduce the nest generation networks based on WDM: concepts\, algorithm\, et
 c. Some of the more interesting "papers" of such topics will be commented 
 along the session.
LAST-MODIFIED:20150602T120616Z
LOCATION:EPSC\, Castelldefels
URL:https://bampla.upc.edu/en/esdeveniments/seminar-prof-lluis_gutierrez
END:VEVENT
BEGIN:VTIMEZONE
TZID:Europe/Madrid
X-LIC-LOCATION:Europe/Madrid
BEGIN:DAYLIGHT
DTSTART:20080330T030000
TZNAME:CEST
TZOFFSETFROM:+0100
TZOFFSETTO:+0200
END:DAYLIGHT
END:VTIMEZONE
END:VCALENDAR
